BEGIN:VCALENDAR
VERSION:2.0
PRODID:floktu.com
X-PUBLISHED-TTL:P1W
BEGIN:VEVENT
UID:FloktuEvent30452@floktu.com
DTSTART:20221014T080000Z
SEQUENCE:0
TRANSP:OPAQUE
DTEND:20221014T130000Z
LOCATION:All Smiles Melbourne Waterfront\, 55 Newquay Promenade\, Docklands
 \, Victoria
SUMMARY:EOY Orthoptics Cocktail Event
DESCRIPTION:Visit https://eoyorthopticscocktailevent.floktu.com for more in
 formation.
DTSTAMP:20260426T113324Z
END:VEVENT
END:VCALENDAR