BEGIN:VCALENDAR
VERSION:2.0
PRODID:floktu.com
X-WR-TIMEZONE:Australia/Sydney
X-PUBLISHED-TTL:P1W
BEGIN:VEVENT
UID:FloktuEvent30452@floktu.com
DTSTART;TZID=Australia/Sydney:20221014T190000
SEQUENCE:0
TRANSP:OPAQUE
DTEND;TZID=Australia/Sydney:20221015T000000
LOCATION:All Smiles Melbourne Waterfront\, 55 Newquay Promenade\, Docklands
 \, Victoria
SUMMARY:EOY Orthoptics Cocktail Event
DESCRIPTION:Visit https://eoyorthopticscocktailevent.floktu.com for more in
 formation.
DTSTAMP:20260426T113329Z
END:VEVENT
BEGIN:VTIMEZONE
TZID:Australia/Sydney
X-LIC-LOCATION:Australia/Sydney
END:VTIMEZONE
END:VCALENDAR